BEGIN:VCALENDAR
VERSION:2.0
METHOD:PUBLISH
BEGIN:VEVENT
DTSTART:20220505T110000Z
DTEND:20220506T150000Z
DTSTAMP:20260424T130235Z
SEQUENCE:0
STATUS:CONFIRMED
SUMMARY:FSV-Planungsseminar 2022: Neue Mobilität - neue Fragestellungen - neue Modelle
DESCRIPTION:Das FSV-Planungsseminar widmet sich im Jahr 2022 dem Thema Verkehrsmodelle. Diese sollen das Verkehrssystem bestmöglich und allumfassend abbilden, aber auch die Konsequenzen von Interventionen oder Entwicklungen darlegen können. Dadurch schaffen sie eine Grundlage für voraussehendes Planen und Steuern des Verkehrssystems in eine gewünschte Richtung. In den letzten Jahrzehnten ist jedoch zu beobachten, dass das Verkehrssystem komplexer wird, neue Mobilitätsformen, neue Mobilitätsangebote sind entstanden, aber auch neue Lebensstile und neue Strategien zur Steuerung des Verkehrssystems. Verkehrsmodelle müssen diese Entwicklungen berücksichtigen können, um zukunftsfähig zu sein. Durch den technischen Fortschritt ergeben sich auch bei Verkehrsmodellen neue Möglichkeiten. Leistungsfähigere Computer, genauere und umfangreichere Informationen ermöglichen in diesem Feld Weiterentwicklungen. Das kann durch die Verfeinerung oder Verbesserung der bestehenden Modelle, aber auch durch gänzlich neue Ansätze der Modellierung des Verkehrssystems erfolgen. Darauf aufbauend möchten wir im heurigen Seminar die Konsequenzen, Möglichkeiten und Grenzen der Anwendung in der täglichen Praxis mit ihnen diskutieren. In gewohnter Weise wird diese zwei Halbtage dauernde Veranstaltung aus einem Mix aus Impulsvorträgen und darauf reflektierenden Workshops und Gruppendiskussionen bestehen, dieses Jahr wieder in Kooperation mit der Stiftungsprofessur Digitalisierung und Automatisierung im Verkehrs- und Mobilitätssystem an der Universität für Bodenkultur in Wien (BOKU). Es soll ausreichend Zeit zum Gedankenaustausch innerhalb des offiziellen Programms, aber auch abseits davon vorhanden sein.  
LOCATION:Das Schloss an der Eisenstrasse , Am Schlossplatz 1, 3340 Waidhofen an der Ybbs
UID:024e551e-7d2d-403c-8cf0-4983c9dc79a5
CLASS:PUBLIC
TRANSP:OPAQUE
END:VEVENT
END:VCALENDAR
