BEGIN:VCALENDAR
VERSION:2.0
METHOD:PUBLISH
BEGIN:VEVENT
DTSTART:20250403T113000Z
DTEND:20250404T150000Z
DTSTAMP:20260421T215025Z
SEQUENCE:0
STATUS:CONFIRMED
SUMMARY:FSV-Planungsseminar 2025: Betriebliches Mobilitätsmanagement
DESCRIPTION:Arbeitswege haben einen großen Anteil am Gesamtverkehrsaufkommen in Österreich. Gemäß den Auswertungen von Österreich Unterwegs 2013/14 dominieren an Werktagen Wege zum und vom Arbeitsplatz mit einem Anteil von 26%. 60% dieser Wege werden in Österreich mit dem Pkw als Lenker:in zurückgelegt. Hinzu kommen noch die Dienstwege mit einem Anteil von 5% der Wege, vorrangig mit dem Pkw durchgeführt. Durch betriebliches Mobilitätsmanagement kann dieser Anteil reduziert werden, wodurch im Interesse der Infrastrukturbetreiber die Pkw-Nachfragemengen zu den Spitzenzeiten und der Flächenbedarf für den ruhenden Pkw-Verkehr abnimmt.   Mobilitätsangebote abseits des Pkw verbessern aber auch die Erreichbarkeit von Unternehmensstandorten und ermöglichen dadurch eine bestmögliche Ausschöpfung des Arbeitsmarktes (bspw. Lehrlinge ohne Pkw-Verfügbarkeit). Darüber hinaus wird der Platzbedarf für Abstellflächen am eigenen Firmengelände reduziert. Arbeitnehmer:innen können durch betriebliches Mobilitätsmanagement Kosten sparen, sei es durch Jobtickets, Mitfahrbörsen oder geförderte (E-)Fahrräder. Wenn diese Interessen gebündelt werden können, ergibt sich ein starker Hebel zur Ökologisierung des Verkehrs.   In unserem diesjährigen Seminar wollen wir uns dieser Thematik annehmen. Beginnend bei den vorhandenen Werkzeugen und Unterstützungsmöglichkeiten werden neue innovative Ansätze und Umsetzungsbeispiele vor-gestellt und diskutiert. In gewohnter Weise wird diese zwei Halbtage dauernde Veranstaltung aus einem Mix aus Impulsvorträgen und darauf reflektierenden Workshops und Gruppendiskussionen bestehen - dieses Jahr wieder in Kooperation mit der Stiftungsprofessur Digitalisierung und Automatisierung im Verkehrs- und Mobilitätssystem an der Universität für Bodenkultur Wien (BOKU). Es soll ausreichend Zeit zum Gedankenaustausch innerhalb des offiziellen Programms, aber auch abseits davon vorhanden sein. 
LOCATION:Seehotel Rust , Am Seekanal 2-4, 7071 Rust
UID:03c84af0-00e3-4248-92ae-5a486ca7e748
CLASS:PUBLIC
TRANSP:OPAQUE
END:VEVENT
END:VCALENDAR
