BEGIN:VCALENDAR
VERSION:2.0
METHOD:PUBLISH
BEGIN:VEVENT
DTSTART:20240116T123000Z
DTEND:20240116T144500Z
DTSTAMP:20260423T004521Z
SEQUENCE:0
STATUS:CONFIRMED
SUMMARY:FSV-Infonachmittag: Ausführung von Erdarbeiten
DESCRIPTION:Als Erdarbeiten sind alle Arbeiten bis auf die Höhe des Unterbauplanums anzusehen. Die RVS 08.03.01 „Erdarbeiten“ ist für Erdarbeiten im Bereich von Verkehrswegen (Straßen- und Eisenbahnbauten) anzuwenden und umfasst die Herstellung von Dämmen, Einschnitten und Anschnitten.   Im Kontext der Standardisierten Leistungsbeschreibung Verkehr und Infrastruktur - Version 06 (LB-VI 06) ist die Kenntnis der neuen RVS 08.03.01 für AuftraggeberInnen und AuftragnehmerInnen besonders hilfreich. Aufgrund der Zurückziehung der ÖNORM B 2205 „Erdarbeiten“ gilt nun die RVS 08.03.01 „Erdarbeiten“.   Im Zuge des Infonachmittags werden die rechtlichen Grundlagen, die verschiedenen Klassifizierungen und deren Ausführung nach RVS 08.03.01 behandelt. Zusätzlich werden die Neuerungen der RVS im Vergleich zu bestehenden Richtlinien aufgezeigt sowie die praktische Anwendung bei der Bewertung von Feld- und Laborversuchen präsentiert.  
LOCATION:Forschungsgesellschaft Straße - Schiene - Verkehr, 4. Stock, Zimmer 402 ODER Webinar (MS-Teams), Karlsgasse 5, 1040 Wien
UID:0486e923-4258-4fc5-bcb0-a0f33df1db42
CLASS:PUBLIC
TRANSP:OPAQUE
END:VEVENT
END:VCALENDAR
