BEGIN:VCALENDAR
VERSION:2.0
METHOD:PUBLISH
BEGIN:VEVENT
DTSTART:20210427T113000Z
DTEND:20210427T143000Z
DTSTAMP:20260425T114955Z
SEQUENCE:0
STATUS:CONFIRMED
SUMMARY:RSI/RSA-Forum 2021: Sicher und unfallfrei durch die Radsaison
DESCRIPTION:Die Österreichische Forschungsgesellschaft Straße - Schiene - Verkehr (FSV) hat bisher mit dem breiten Angebot an Fach- und Fortbildungsschulungen für alle Verkehrssicherheitsauditoren und Road Safety Inspektoren ein hohes Maß an Ausbildung ermöglicht. Unabhängig davon werden mit dem RSI/RSA-Forum weitere Möglichkeiten des Dialogs geboten, um wichtige Themenbereiche interdisziplinär und fachübergreifend breit zu diskutieren. Das aktuell angebotene FSV-Forum „Sicher und unfallfrei durch die Radsaison“ ist daher von ganz besonderer Bedeutung, da vielfach mit der Zu-nahme des Radverkehrs – vor allem in Städten – Verkehrsunfälle mit Radfahrern steigen. Auch wenn viele Kommunen Maßnahmen zur Unfallsanierung setzen, gelingt es nicht immer die Zahl der Unfälle zu senken, da das regelgerechte Verhalten und die Einhaltung der Fahrgeschwindigkeiten auch von Radfahrern nicht immer gegeben ist. Ob die Novelle der Straßenverkehrsordnung (StVO) mit ihren Erneuerungen die Verkehrssicherheit positiv beeinflussen wird, wird daher zu diskutieren sein. Zu Beginn der Radsaison möchten wir deshalb mit dieser Veranstaltung einen weiteren Beitrag zur Erhöhung der Sicherheit beim Radfahren leisten.   
LOCATION:MS-Teams , ,  Webinar
UID:0925cb25-0667-472a-83ee-6e133d046b7a
CLASS:PUBLIC
TRANSP:OPAQUE
END:VEVENT
END:VCALENDAR
