BEGIN:VCALENDAR
VERSION:2.0
METHOD:PUBLISH
BEGIN:VEVENT
DTSTART:20220929T080000Z
DTEND:20220929T150000Z
DTSTAMP:20260424T050125Z
SEQUENCE:0
STATUS:CONFIRMED
SUMMARY:FSV-Tagung: Brückenprüfer Erfahrungsaustausch
DESCRIPTION:Die Veranstaltung „Brückenprüfer Erfahrungsaustausch“ ist eine Vortragsveranstaltung, bei der aktuelle Themen der Bauwerks-/Brückenprüfung von FachexpertInnen vorgestellt werden und zur Diskussion stehen. Die Tagung ist auch als Treffen der ExpertInnen der Bauwerks-/Brückenprüfung konzipiert.  Details folgen in Kürze. 
LOCATION:Rainers Hotel Vienna , Gudrunstraße 184, 1100 Wien
UID:092ea9c4-c5ba-431e-9f7c-9e77b554a6c7
CLASS:PUBLIC
TRANSP:OPAQUE
END:VEVENT
END:VCALENDAR
