BEGIN:VCALENDAR
VERSION:2.0
METHOD:PUBLISH
BEGIN:VEVENT
DTSTART:20241114T100000Z
DTEND:20241114T150000Z
DTSTAMP:20260422T065055Z
SEQUENCE:0
STATUS:CONFIRMED
SUMMARY:FSV-Preisverleihung 2024 - "Wir finden neue Wege - die Jugend geht mit"
DESCRIPTION:In Zusammenarbeit mit dem „Bundesministerium für Klimaschutz, Umwelt, Energie, Mobilität, Innovation und Technologie" (BMK) wird jährlich der FSV-Preis an Verfasserinnen und Verfasser von Diplomarbeiten und Dissertationen aus dem Bereich des Verkehrswesen verliehen. Ziel dieser Veranstaltung ist es die Jugend zu fördern - einerseits durch die Chance Forschungsergebnisse einer breiten Öffentlichkeit und einem Fachpublikum aus dem Verkehrswesen zu präsentieren, andererseits durch Dotierung des Preises. 
LOCATION:RIVERBOX , Johann-Böhm-Platz 1, 1020 Wien
UID:09f4f65b-8b6c-4351-8a21-0fa4afe8563c
CLASS:PUBLIC
TRANSP:OPAQUE
END:VEVENT
END:VCALENDAR
