BEGIN:VCALENDAR
VERSION:2.0
METHOD:PUBLISH
BEGIN:VEVENT
DTSTART:20210921T060000Z
DTEND:20210922T140000Z
DTSTAMP:20260425T020700Z
SEQUENCE:0
STATUS:CONFIRMED
SUMMARY:FGSV-Asphaltstraßentagung 2023
DESCRIPTION:Anmeldung HIER!   Die Asphaltstraßentagung 2023 in Aachen steht vor der Tür und bringt eine Fülle von Themen mit sich, die sich um die Zukunft der Asphaltbauweise drehen. Dabei geht es vor allem um den Klimaschutz und die Klimaresilienz im Straßenbau, denn eine der großen Herausforderungen der Zukunft ist es, die Erderwärmung aufzuhalten und gleichzeitig die Infrastruktur widerstandsfähiger gegenüber den Auswirkungen des Klimawandels zu machen.   Weitere Informationen finden Sie hier! 
UID:0ac3c708-436a-4208-8bc6-6e0e61567fb7
CLASS:PUBLIC
TRANSP:OPAQUE
END:VEVENT
END:VCALENDAR
