BEGIN:VCALENDAR
VERSION:2.0
METHOD:PUBLISH
BEGIN:VEVENT
DTSTART:20221005T070000Z
DTEND:20221007T120000Z
DTSTAMP:20260424T031941Z
SEQUENCE:0
STATUS:CONFIRMED
SUMMARY:Deutscher Straßen- und Verkehrskongress 2022
DESCRIPTION:Nähere Informationen finden Sie hier! 
UID:14bc9a3d-23c9-4f2f-8334-072727fa9c8f
CLASS:PUBLIC
TRANSP:OPAQUE
END:VEVENT
END:VCALENDAR
