BEGIN:VCALENDAR
VERSION:2.0
METHOD:PUBLISH
BEGIN:VEVENT
DTSTART:20231109T080000Z
DTEND:20231109T160000Z
DTSTAMP:20260423T043845Z
SEQUENCE:0
STATUS:CONFIRMED
SUMMARY:FSV-Seminar: Kommunale Straßen - Winterdienst 
DESCRIPTION:Bei Buchung von mind. 2 Seminartagen können Sie (bei Bekanntgabe) den 4. Seminartag „Rechtliche Grundlagen“ (16.10.2025) zusätzlich gratis besuchen.   Das spezielle Gebiet des Winterdienstes wird von Herrn Hoffmann vorgestellt. Er erläutert die Rechtsgrundlagen, die Kosten und Wirtschaftlichkeit des Winterdienstes. Weiters gibt er Einblick in den Schneeschutz an Straßen, die Schneeräumung und Glättebekämpfung. Trägerfahrzeuge werden vorgestellt und die Organisation und Einsatzplanung erläutert.  Der Referent klärt über die Wetterentwicklung und den Fahrbahnzustand sowie die Straßenreinigung auf. 
LOCATION:Forschungsgesellschaft Straße - Schiene - Verkehr, 4. Stock, Zimmer 402 ODER Webinar (MS-Teams), Karlsgasse 5, 1040 Wien
UID:153f0352-b84a-4c67-9e6e-5c54e3627d62
CLASS:PUBLIC
TRANSP:OPAQUE
END:VEVENT
END:VCALENDAR
