BEGIN:VCALENDAR
VERSION:2.0
METHOD:PUBLISH
BEGIN:VEVENT
DTSTART:20210223T120000Z
DTEND:20210223T150000Z
DTSTAMP:20260425T154113Z
SEQUENCE:0
STATUS:CONFIRMED
SUMMARY:FSV-Infonachmittag: Winterdienst 
DESCRIPTION:In RVS 12.04.12 „Schneeräumung und Streuung“ sind die Grundsätze der Schneeräumung und Glättebekämpfung zusammengefasst. Sie regelt weiters die winterdienstlichen Betreuungsstandards für Bundes-, Landes- und Gemeindestraßen. Im Rahmen des Infonachmittags wird bei diesem Termin besonders auf die Fertigstellung des Anhangs 2 der RVS 12.04.12 eingegangen.   RVS 12.04.15 „Minimierung von Umweltauswirkungen beim Einsatz von Streumitteln im Winterdienst“ enthält Empfehlungen hinsichtlich der Umweltauswirkungen von Streumitteln.    RVS 12.04.16 „Streumittel“ regelt die Qualitätskriterien für alle Streumittel, die im Zuge des Winterdienstes auf Bundes-, Landes- und Gemeindestraßen mit öffentlichem Verkehr verwendet werden. Diese RVS wurde 2017 neu herausgegeben und im Zuge der Überarbeitung die aktuelle europäische Norm für auftauende Streumittel (ÖNORM EN 16811) berücksichtigt.    Dadurch kann für den jeweiligen Anwendungsbereich ein einheitlicher Standard hinsichtlich Wirksamkeit, Umweltverträglichkeit, Wirtschaftlichkeit und Beschaffung der im Winterdienst eingesetzten Streumittel gewährleistet werden.    
LOCATION:MS-Teams , ,  Webinar
UID:15f8f891-8184-4348-855c-c3f68b40dc8a
CLASS:PUBLIC
TRANSP:OPAQUE
END:VEVENT
END:VCALENDAR
