BEGIN:VCALENDAR
VERSION:2.0
METHOD:PUBLISH
BEGIN:VEVENT
DTSTART:20240925T080000Z
DTEND:20240925T150000Z
DTSTAMP:20260422T102618Z
SEQUENCE:0
STATUS:CONFIRMED
SUMMARY:FSV-Tagung: Brückenprüfer Erfahrungsaustausch
DESCRIPTION:Die Veranstaltung „Brückenprüfer Erfahrungsaustausch“ ist eine Vortragsveranstaltung, bei der aktuelle Themen der Bauwerks-/Brückenprüfung von FachexpertInnen vorgestellt werden und zur Diskussion stehen. Die Tagung ist auch als Treffen der ExpertInnen der Bauwerks-/Brückenprüfung konzipiert.  Details folgen in Kürze. 
LOCATION:Novotel Wien Hauptbahnhof , Canettistraße 6, 1100 Wien
UID:16e7da8a-cb03-49a8-a538-06ef23518290
CLASS:PUBLIC
TRANSP:OPAQUE
END:VEVENT
END:VCALENDAR
