BEGIN:VCALENDAR
VERSION:2.0
METHOD:PUBLISH
BEGIN:VEVENT
DTSTART:20200910T110000Z
DTEND:20200911T150000Z
DTSTAMP:20260426T002735Z
SEQUENCE:0
STATUS:CONFIRMED
SUMMARY:FSV-Planerseminar: Nutzungsvielfalt im öffentlichen (Straßen-)Raum
DESCRIPTION:Beim bereits traditionellen FSV-Planungsseminar möchten wir uns diesmal der Nutzungsvielfalt des öffentlichen (Straßen-)Raums widmen. Dabei geht es um Nutzungen, die räumliche Ansprüche inkludieren. Ansprüche und Interessen an den öffentlichen Raum  gab es schon immer und diese selbst sind einem steten Wandel unterworfen. Dies ist augenscheinlich erkennbar, wenn man historische Straßenbilder aus dem 19. Jahrhundert mit jenen der 1970er Jahre oder mit heute vergleicht. Auch gegenwärtig kann man die Dynamik dieses Prozesses feststellen, welche durch veränderte Lebensgewohnheiten, sich ändernden Rahmenbedingungen und Leitbildern hervorgerufen werden.  Wir wollen uns daher mit den Fragen beschäftigen: Sind unsere verkehrsplanerischen Werkzeuge und Lösungen fit für und anschlussfähig an diese Entwicklungen? Wie kann man diesen Ansprüchen genüge tun, speziell bei begrenzten räumlichen Ressourcen wie zum Beispiel in Ortszentren? Wo sind die Grenzen des Machbaren und wie kann eine Priorisierung oder Ausbalancierung der Interessen aussehen? Neben Vorträgen zu aktuellen Entwicklungen verschiedener Nutzungsaspekte werden auch einige Praxisbeispiele dazu präsentiert werden. In gewohnter Weise wird diese zwei Halbtage dauernde Veranstaltung aus einem Mix aus Impulsvorträgen und darauf reflektierenden Workshops und Gruppendiskussionen bestehen. Es soll ausreichend Zeit zum Gedankenaustausch innerhalb des offiziellen Programms aber auch abseits davon vorhanden sein. 
LOCATION:Heiltherme Bad Waltersdorf  , Thermenstraße 111, 8271 Bad Waltersdorf
UID:174f8dd2-63b3-4be8-81aa-b648d9d82f32
CLASS:PUBLIC
TRANSP:OPAQUE
END:VEVENT
END:VCALENDAR
