BEGIN:VCALENDAR
VERSION:2.0
METHOD:PUBLISH
BEGIN:VEVENT
DTSTART:20231127T073000Z
DTEND:20231129T131500Z
DTSTAMP:20260423T043747Z
SEQUENCE:0
STATUS:CONFIRMED
SUMMARY:FSV-Schulung: Brückeninspektoren - Basislehrgang
LOCATION:Forschungsgesellschaft Straße - Schiene - Verkehr, 1. Stock, Saal A, Karlsgasse 5, 1040 Wien
UID:1be5adc4-708b-4017-aed6-60b2be0669d9
CLASS:PUBLIC
TRANSP:OPAQUE
END:VEVENT
END:VCALENDAR
