BEGIN:VCALENDAR
VERSION:2.0
METHOD:PUBLISH
BEGIN:VEVENT
DTSTART:20220912T070000Z
DTEND:20220914T150000Z
DTSTAMP:20260424T051342Z
SEQUENCE:0
STATUS:CONFIRMED
SUMMARY:SURF 2022: The 9th Symposium on Pavement Surface Characteristics
DESCRIPTION:Nähere Informationen finden Sie hier! 
UID:1c104808-fb39-4031-b9c4-b6685e248fd8
CLASS:PUBLIC
TRANSP:OPAQUE
END:VEVENT
END:VCALENDAR
