BEGIN:VCALENDAR
VERSION:2.0
METHOD:PUBLISH
BEGIN:VEVENT
DTSTART:20230512T063000Z
DTEND:20230512T154500Z
DTSTAMP:20260423T144725Z
SEQUENCE:0
STATUS:CONFIRMED
SUMMARY:17. Tiroler Geotechniktag Naturgefahren
DESCRIPTION:LINK: https://www.uibk.ac.at/geotechnik/veranst/tirolergeotechniktag.html Veranstaltungsort: Congress Innsbruck, Rennweg 3, SAAL BRÜSSEL, 6020 Innsbruck 
UID:1e57813f-3ea3-4c02-8560-db92b3e517f4
CLASS:PUBLIC
TRANSP:OPAQUE
END:VEVENT
END:VCALENDAR
