BEGIN:VCALENDAR
VERSION:2.0
METHOD:PUBLISH
BEGIN:VEVENT
DTSTART:20201005T063000Z
DTEND:20201007T121500Z
DTSTAMP:20260425T224004Z
SEQUENCE:0
STATUS:CONFIRMED
SUMMARY:FSV-Schulung: Brückeninspektoren - Basislehrgang
LOCATION:Forschungsgesellschaft Straße - Schiene - Verkehr, 1. Stock, Saal A, Karlsgasse 5, 1040 Wien
UID:1f36f4bc-b3c9-4055-8b99-68026f013af3
CLASS:PUBLIC
TRANSP:OPAQUE
END:VEVENT
END:VCALENDAR
