BEGIN:VCALENDAR
VERSION:2.0
METHOD:PUBLISH
BEGIN:VEVENT
DTSTART:20220321T073000Z
DTEND:20220323T133000Z
DTSTAMP:20260424T160309Z
SEQUENCE:0
STATUS:CONFIRMED
SUMMARY:FSV-Schulung: Brückeninspektoren - Basislehrgang
LOCATION:Forschungsgesellschaft Straße - Schiene - Verkehr, 1. Stock, Saal A, Karlsgasse 5, 1040 Wien
UID:2242a7f5-0e6e-4071-a6a9-f94f6bd4c102
CLASS:PUBLIC
TRANSP:OPAQUE
END:VEVENT
END:VCALENDAR
