BEGIN:VCALENDAR
VERSION:2.0
METHOD:PUBLISH
BEGIN:VEVENT
DTSTART:20211006T063000Z
DTEND:20211008T123000Z
DTSTAMP:20260425T001410Z
SEQUENCE:0
STATUS:CONFIRMED
SUMMARY:FSV-Schulung: Brückeninspektoren - Basislehrgang
LOCATION:Forschungsgesellschaft Straße - Schiene - Verkehr, 1. Stock, Saal A, Karlsgasse 5, 1040 Wien
UID:22eb6842-96ff-4c5e-ad5e-9d485258914c
CLASS:PUBLIC
TRANSP:OPAQUE
END:VEVENT
END:VCALENDAR
