BEGIN:VCALENDAR
VERSION:2.0
METHOD:PUBLISH
BEGIN:VEVENT
DTSTART:20240313T093000Z
DTEND:20240314T125500Z
DTSTAMP:20260422T211251Z
SEQUENCE:0
STATUS:CONFIRMED
SUMMARY:Heureka '24: Optimierung in Verkehr und Transport
DESCRIPTION:Ein neues Kapitel in der Verkehrsoptimierung Vom 13. bis 14. März 2024 lädt die Forschungsgesellschaft für Straßen- und Verkehrswesen (FGSV) gemeinsam mit dem Verband Deutscher Verkehrsunternehmen (VDV) zur HEUREKA '24 in Stuttgart ein. Dieses Jahr markiert das 40-jährige Jubiläum der HEUREKA, einer Veranstaltung, die sich der Optimierung in Verkehr und Transport widmet. Ein Forum für Fachleute und Interessenten Die HEUREKA '24 bietet eine Plattform für Expertinnen und Experten aus Verwaltung, Wissenschaft, Industrie und Beratung, um die neuesten Forschungsergebnisse und Entwicklungen in der Verkehrstechnik und -planung zu diskutieren. Das Event richtet sich an Mitarbeiterinnen und Mitarbeiter der Verkehrs- und Verkehrstechnik-Verwaltungen, Hochschulen, Forschungseinrichtungen, Industriebetriebe im Verkehrstechnikbereich sowie Ingenieurbüros. 
LOCATION:Haus der Wirtschaft , Willi-Bleicher-Str. 19, 70174  Stuttgart
UID:2774f4d5-69f6-4be6-8ec8-a9b37a2d6973
CLASS:PUBLIC
TRANSP:OPAQUE
END:VEVENT
END:VCALENDAR
