BEGIN:VCALENDAR
VERSION:2.0
METHOD:PUBLISH
BEGIN:VEVENT
DTSTART:20220510T070000Z
DTEND:20220511T143000Z
DTSTAMP:20260424T125532Z
SEQUENCE:0
STATUS:CONFIRMED
SUMMARY:FSV-Seminar: Standardisierte Leistungsbeschreibung Verkehr und Infrastruktur Version 6 - Basisseminar
DESCRIPTION:Die Standardisierte Leistungsbeschreibung Verkehr und Infrastruktur Version 06, ein Meilenstein für AuftraggeberInnen, PlanerInnen und AuftragnehmerInnen für alle Bereiche des Ingenieurbaus, wurde 2021 überarbeitet. Zahlreiche Leistungsgruppen wurden wegen der Zurückziehung der ÖNORM B 2205 „Erdarbeiten“ adaptiert. Es gilt nun die RVS 08.03.01 „Erdarbeiten“.  Außerdem wurden beispielsweise die LG 40 „Straßenausrüstung - Bodenmarkierungen“ und LG 43 „Straßenausrüstung - Rückhaltesysteme“ komplett überarbeitet und die LG 55 „Deponiebau“, LG 91 „Chem. Untersuchungen einmalig anfallender Abfälle und Wässer“ sowie auch die LG 92 „Reinigungsarbeiten“ neu erstellt. Zahlreiche weitere Leistungsgruppen wurden angepasst, die aktuellen Normen und Regelwerke berücksichtigt. In dem zweitägigen Seminar wird auf das System der Standardisierten Leistungsbeschreibung, die einzelnen Bereiche des Tiefbaus sowie die zahlreichen Änderungen und Neuerungen detailliert eingegangen.     
LOCATION:HOTEL IMLAUER & Bräu Salzburg , Rainerstraße 12-14, 5020 Salzburg
UID:27e3568b-79e4-4130-bd61-a5588d8ee297
CLASS:PUBLIC
TRANSP:OPAQUE
END:VEVENT
END:VCALENDAR
