BEGIN:VCALENDAR
VERSION:2.0
METHOD:PUBLISH
BEGIN:VEVENT
DTSTART:20250120T080000Z
DTEND:20250122T133000Z
DTSTAMP:20260422T032021Z
SEQUENCE:0
STATUS:CONFIRMED
SUMMARY:FSV-Schulung: Fachkraft für Fahrzeugrückhaltesysteme
DESCRIPTION:Die dreitägige FSV-Schulung „Fachkraft für Fahrzeugrückhaltesysteme“ richtet sich an PlanerInnen, MitarbeiterInnen der Örtlichen Bauaufsicht, ZiviltechnikerInnen, IngenieurkonsulentInnen, MitarbeiterInnen von Herstellern von Fahrzeugrückhaltesystemen und Montagefirmen.  Im Rahmen der neu aufgesetzten Veranstaltung werden Einblicke in die Bereiche der  CE-Kennzeichnung und Einsatzfreigabe, Europäischen Anforderungen an Fahrzeugrückhaltesysteme (EN 1317), Typen und Funktionsweisen von Fahrzeugrückhaltesystemen, Technischen Vertragsbedingungen, Anpralldämpfer und Terminals, Planung und Ausführung, Rechtliche Rahmenbedingungen und relevanten RVS der Baustellenabsicherung gegeben.   Mit der positiven Absolvierung (positiver Abschlusstest und vollständige Anwesenheit) der Schulung erhalten Sie ein Zertifikat als Fachkraft für Fahrzeugrückhaltesysteme.    Dieses kann bei Ausschreibungen als Zuschlagskriterium angerechnet werden.    
LOCATION:Forschungsgesellschaft Straße - Schiene - Verkehr, 1. Stock, Saal A+B, Karlsgasse 5, 1040 Wien
UID:2a0a512f-07ae-4278-b1bb-d41205b3edd4
CLASS:PUBLIC
TRANSP:OPAQUE
END:VEVENT
END:VCALENDAR
