BEGIN:VCALENDAR
VERSION:2.0
METHOD:PUBLISH
BEGIN:VEVENT
DTSTART:20210322T073000Z
DTEND:20210324T131500Z
DTSTAMP:20260425T133553Z
SEQUENCE:0
STATUS:CONFIRMED
SUMMARY:FSV-Schulung: Brückeninspektoren - Basislehrgang
LOCATION:Forschungsgesellschaft Straße - Schiene - Verkehr, 1. Stock, Saal A, Karlsgasse 5, 1040 Wien
UID:2aa9a4d3-7912-4e10-bb2d-1ea3004302a3
CLASS:PUBLIC
TRANSP:OPAQUE
END:VEVENT
END:VCALENDAR
