BEGIN:VCALENDAR
VERSION:2.0
METHOD:PUBLISH
BEGIN:VEVENT
DTSTART:20251013T070000Z
DTEND:20251016T150000Z
DTSTAMP:20260421T113307Z
SEQUENCE:0
STATUS:CONFIRMED
SUMMARY:FSV-Seminar: Kommunale Straßen - Block A
DESCRIPTION:Die Seminarreihe bietet Interessierten die einmalige Möglichkeit sich von der Planung über den Straßenbetrieb bis zur Erhaltung – speziell zugeschnitten auf den kommunalen und ländlichen Bereich – zeitsparend, kompetent und praxisorientiert zu informieren. Dabei können Sie tageweise jene Themen auswählen, die für Sie von besonderem Interesse sind oder Sie buchen das gesamte Seminar, um umfassend informiert zu werden. 
LOCATION:MS-Teams , ,  Webinar
UID:31a236c2-2993-497f-9266-5bada586793e
CLASS:PUBLIC
TRANSP:OPAQUE
END:VEVENT
END:VCALENDAR
