BEGIN:VCALENDAR
VERSION:2.0
METHOD:PUBLISH
BEGIN:VEVENT
DTSTART:20251009T100000Z
DTEND:20251010T120000Z
DTSTAMP:20260421T115501Z
SEQUENCE:0
STATUS:CONFIRMED
SUMMARY:D-A-CH-Informationstagung 2025
UID:31c1c761-557c-45f9-9b69-b17a910ca495
CLASS:PUBLIC
TRANSP:OPAQUE
END:VEVENT
END:VCALENDAR
