BEGIN:VCALENDAR
VERSION:2.0
METHOD:PUBLISH
BEGIN:VEVENT
DTSTART:20230928T070000Z
DTEND:20230928T150000Z
DTSTAMP:20260423T081253Z
SEQUENCE:0
STATUS:CONFIRMED
SUMMARY:FSV-Seminar: Kommunale Straßen - aktive Mobilität
DESCRIPTION:Bei Buchung von mind. 2 Seminartagen können Sie (bei Bekanntgabe) den 4. Seminartag „Rechtliche Grundlagen“ (16.10.2025) zusätzlich gratis besuchen.   Die Vortragenden werden das Thema Fußgänger- und Radverkehr sowie Begegnungszonen  ausführlich behandeln. Herr Robatsch wird die Planungsgrundsätze des nicht motorisierten Verkehrs vom Radweg über die Begegnungszone bis hin zur Fußgängerzone darstellen. Die Herren Reiter und Schneider gehen besonders auf die Richtlinien für den Fußgänger- und Radverkehr ein. Zum Abschluss geht Herr Szeiler auf die Einsatzkriterien für Begegnungszonen ein. Diese sollen Gemeinden unterstützen, um festzustellen, inwieweit Straßen oder Plätze als Begegnungszonen geeignet sind. 
LOCATION:Forschungsgesellschaft Straße - Schiene - Verkehr, 4. Stock, Zimmer 402 ODER Webinar (MS-Teams), Karlsgasse 5, 1040 Wien
UID:363c79e8-2cc2-4d52-914c-78745cea5b2d
CLASS:PUBLIC
TRANSP:OPAQUE
END:VEVENT
END:VCALENDAR
