BEGIN:VCALENDAR
VERSION:2.0
METHOD:PUBLISH
BEGIN:VEVENT
DTSTART:20220127T080000Z
DTEND:20220128T140000Z
DTSTAMP:20260424T191043Z
SEQUENCE:0
STATUS:CONFIRMED
SUMMARY:13. Österreichische Geotechniktagung: Unwägbarkeiten in Planung & Ausführung von geotechnischen Maßnahmen
DESCRIPTION:Nähere Informationen finden Sie hier! 
UID:369710f1-bbac-426d-a5cd-5e484f318597
CLASS:PUBLIC
TRANSP:OPAQUE
END:VEVENT
END:VCALENDAR
