BEGIN:VCALENDAR
VERSION:2.0
METHOD:PUBLISH
BEGIN:VEVENT
DTSTART:20230330T160000Z
DTEND:20230330T200000Z
DTSTAMP:20260423T181923Z
SEQUENCE:0
STATUS:CONFIRMED
SUMMARY:26. Abendseminar der EVU-Österreich - Unfallursachen Reifen Und Fahrbahn
DESCRIPTION:26. Abendseminar Der EVU-Österreich – „Unfallursachen Reifen Und Fahrbahn“ Aufklärung der Unfallursachen durch Gerichtssachverständige und Experten.   Anmeldung bitte über das Anmeldformular!   
LOCATION:Café Restaurant Landtmann , Universitätsring 4, 1010 Wien
UID:39b05662-6cb1-410f-b3a6-3634c8198ef4
CLASS:PUBLIC
TRANSP:OPAQUE
END:VEVENT
END:VCALENDAR
