BEGIN:VCALENDAR
VERSION:2.0
METHOD:PUBLISH
BEGIN:VEVENT
DTSTART:20250604T063000Z
DTEND:20250604T154500Z
DTSTAMP:20260421T182902Z
SEQUENCE:0
STATUS:CONFIRMED
SUMMARY:19. Tiroler Geotechniktag Naturgefahren
DESCRIPTION:Anmeldung: https://www.uibk.ac.at/geotechnik/veranst/tirolergeotechniktag.html Veranstaltungsort: Congress Innsbruck, Rennweg 3, 6020 Innsbruck 
UID:3dc0cc3e-ac4b-48b6-b5b4-31fafd453925
CLASS:PUBLIC
TRANSP:OPAQUE
END:VEVENT
END:VCALENDAR
