BEGIN:VCALENDAR
VERSION:2.0
METHOD:PUBLISH
BEGIN:VEVENT
DTSTART:20230622T064500Z
DTEND:20230622T160000Z
DTSTAMP:20260423T131118Z
SEQUENCE:0
STATUS:CONFIRMED
SUMMARY:FSV-Verkehrstag mit Fachausstellung 2023
DESCRIPTION:Der FSV-Verkehrstag, hervorgegangen aus der Jahrestagung der FSV, stellt die neueste Entwicklung in den Bereichen Verkehrswesen und Infrastruktur vor. Er bietet damit allen Fachleuten  und Vertretern aus Wissenschaft, Wirtschaft, Politik und Verwaltung einen Überblick über die Entwicklung des Stands der Technik. Die Österreichischen Forschungsgesellschaft Straße - Schiene - Verkehr freut sich auf interessiertes Fachpublikum am kommenden Verkehrstag! 
LOCATION:Vienna Marriott Hotel , Parkring 12a, 1010 Wien
UID:43bd72fc-9e36-4153-b39b-1b6d2ca46f54
CLASS:PUBLIC
TRANSP:OPAQUE
END:VEVENT
END:VCALENDAR
