BEGIN:VCALENDAR
VERSION:2.0
METHOD:PUBLISH
BEGIN:VEVENT
DTSTART:20250113T080000Z
DTEND:20250115T140000Z
DTSTAMP:20260422T032027Z
SEQUENCE:0
STATUS:CONFIRMED
SUMMARY:FSV-Schulung: Ausführung und Abnahme von Bodenmarkierungen - Ausbildung zur Fachkraft (Theorie & Praxis)
DESCRIPTION:Mit der positiven Absolvierung (positiver Abschlusstest und vollständige Anwesenheit) der Schulung erhalten Sie ein Zertifikat als Fachkraft für Bodenmarkierungen. 
LOCATION:Intercity Hotel Graz , Finkengasse 2, 8020 Graz
UID:4849d176-2282-44a9-bf68-2c3f7eb5317f
CLASS:PUBLIC
TRANSP:OPAQUE
END:VEVENT
END:VCALENDAR
