BEGIN:VCALENDAR
VERSION:2.0
METHOD:PUBLISH
BEGIN:VEVENT
DTSTART:20250128T090000Z
DTEND:20250128T150000Z
DTSTAMP:20260422T032131Z
SEQUENCE:0
STATUS:CONFIRMED
SUMMARY:Recyclinggerechte Ausschreibung und Vergabe
DESCRIPTION:Auf Basis des Bundesvergabegesetzes und der neuen aktuellen  standardisierten Leistungsbeschreibung LB-VI werden Möglichkeiten einer  recyclinggerechten Ausschreibung und Vergabe dargelegt. Die Teilnehmenden  erhalten damit ein Werkzeug zur eigenen Umsetzung einer recyclinggerechten  Ausschreibung und Vergabe.  Die Anmeldung erfolgt über die Homepage vom BRV (www.brv.at)   
LOCATION:Österreichischer Baustoff-Recycling Verband BRV, Karlsgasse 5, 1040 Wien
UID:4962ae18-cb89-4081-bdd5-cb5bd08f8285
CLASS:PUBLIC
TRANSP:OPAQUE
END:VEVENT
END:VCALENDAR
