BEGIN:VCALENDAR
VERSION:2.0
METHOD:PUBLISH
BEGIN:VEVENT
DTSTART:20250918T113000Z
DTEND:20250918T144500Z
DTSTAMP:20260421T131318Z
SEQUENCE:0
STATUS:CONFIRMED
SUMMARY:RSI/RSA-Forum 2025: Aktuelle Themen der RSI-RSA und Unfallstellensanierung – Best Practice
DESCRIPTION:Die Forschungsgesellschaft Straße, Schiene Verkehr versucht im Zuge der Veranstaltungen des RSI-RSA FORUMS Sicherheitsexperten unterschiedlicher Bereiche zu vernetzen und dabei auch praktische und besonders effiziente und fachliche Diskussionen zu präsentieren. Dabei geht es einmal mehr um wichtige Road Safety Inspections, Road Safety Audits und Unfallanalysen. Österreich ist im Bereich der Verkehrssicherheit ein Musterland hinsichtlich Unfallaufnahme und wichtiger moderner Richtlinien innerhalb der EU: Mit der UDM-Datenbank sind exakte punktgenaue Unfallauswertungen - durch den Einsatz von RSI und RSA sind neue Methoden der Prophylaxe  möglich. Auch wenn in Österreich noch nicht alle Möglichkeiten der Verkehrssicherheit ausgeschöpft sind, können alle Wissenschafter, Fachexperten und Politiker auf das bisher Erreichte stolz sein. Uns allen muss aber bewusst sein, dass diese fachlichen und wissenschaftlichen Schätze von den Verantwortlichen weiterhin behütet und gefördert werden müssen. Um den Wirkungsgrad der Verkehrssicherheit in Österreich weiter erhöhen zu können sollen daher ungenutzte Synergien zusammengeführt werden.   Wichtiger Hinweis: Diese Veranstaltung kann nicht zur Weiterbildung für die Rezertifizierung herangezogen werden.   Weitere Informationen entnehmen Sie bitte aus dem Veranstaltungsprogramm.  
LOCATION:Forschungsgesellschaft Straße - Schiene - Verkehr, 1. Stock, Saal A+B, Karlsgasse 5, 1040 Wien
UID:49a5dd96-be12-4065-b37e-c667241f7ac8
CLASS:PUBLIC
TRANSP:OPAQUE
END:VEVENT
END:VCALENDAR
