BEGIN:VCALENDAR
VERSION:2.0
METHOD:PUBLISH
BEGIN:VEVENT
DTSTART:20241128T090000Z
DTEND:20241128T151500Z
DTSTAMP:20260422T065348Z
SEQUENCE:0
STATUS:CONFIRMED
SUMMARY:FSV-Seminar: LB-VI 07 - Updateseminar
DESCRIPTION:Die Standardisierte Leistungsbeschreibung Verkehr und Infrastruktur Version 07, ein großer Meilenstein für AuftraggeberInnen, PlanerInnen und AuftragnehmerInnen für alle Bereiche des Ingenieurbaus, wird am 01. November 2024 veröffentlicht.  In diesem Updateseminar informieren die Fachexperten der LB-VI über die Änderungen sowie Neuerungen von LB-VI06 zu LB-VI07.  Fragen zu diesen Änderungen können direkt in der Veranstaltung an die Vortagenden gestellt werden.  
LOCATION:St. Virgil Salzburg Bildungs- u. Konferenzzentrum , Ernst-Grein-Straße 14, 5026 Salzburg
UID:49a6d81e-7590-4c4c-b514-894b42fa5083
CLASS:PUBLIC
TRANSP:OPAQUE
END:VEVENT
END:VCALENDAR
