BEGIN:VCALENDAR
VERSION:2.0
METHOD:PUBLISH
BEGIN:VEVENT
DTSTART:20211118T080000Z
DTEND:20211118T160000Z
DTSTAMP:20260424T222122Z
SEQUENCE:0
STATUS:CONFIRMED
SUMMARY:FSV-Kooperationsveranstaltung: Bundeskongress kommunale Verkehrssicherheit 2021
DESCRIPTION:Das dritte Mal veranstaltet die Österreichische Forschungsgesellschaft Straße - Schiene - Verkehr (FSV) in Kooperation mit den PartnerInnen Universität für Bodenkultur Wien (BOKU), Kuratorium für Verkehrssicherheit (KFV), Jenoptik und dem Österreichischen Städtebund den Bundeskongress kommunale Verkehrssicherheit.  Ziel ist es, möglichst viele am Thema Verkehrssicherheit Interessierte über aktuelle Entwicklungen zu informieren. VertreterInnen von Gemeinden und Städten sollen ebenso angesprochen werden wie PlanerInnen und BehördenvertreterInnen. Themen des dritten Bundeskongresses sind Mini-kreisverkehre, verschiedene Aspekte der Verkehrssicherheitstechnik sowie der Radverkehr. 
LOCATION:Renaissance Wien Hotel , Linke Wienzeile/Ullmannstraße 71, 1150 Wien
UID:49bfaadd-48f9-444d-9106-f79451d33832
CLASS:PUBLIC
TRANSP:OPAQUE
END:VEVENT
END:VCALENDAR
