BEGIN:VCALENDAR
VERSION:2.0
METHOD:PUBLISH
BEGIN:VEVENT
DTSTART:20220613T120000Z
DTEND:20220613T144500Z
DTSTAMP:20260424T105954Z
SEQUENCE:0
STATUS:CONFIRMED
SUMMARY:FSV-Infonachmittag: Lebenszykluskosten für Brücken
DESCRIPTION:Die RVS 13.05.11 „Lebenszykluskostenermittlung für Brücken“ beschreibt ein rechnerisches Prognosemodell für die Ermittlung von Lebenszykluskosten von Straßen- und Eisenbahnbrücken. Die RVS dient zur Unterstützung für die Entscheidung hinsichtlich baulicher Investitionen (Instandsetzung, Neubau) und als Hilfsmittel für die Festlegung der finanziellen Bedarfsplanung von BauwerkserhalterInnen. Mit dieser RVS ist es möglich, objektivierte, vergleichbare Kosten zu ermitteln, welche als Basis für EntscheidungsträgerInnen herangezogen werden können. In Ergänzung zur RVS 13.05.11 beschreibt die RVS 13.05.21 „Ablösekostenermittlung für Brücken“ ein rechnerisches Modell für die Ermittlung von Ablösekosten von Brücken. Ziel der RVS 13.05.21 ist es, die objektivierte Bewertung einer Anlage im Zuge einer möglichen Eigentumsübertragung von Brücken finanziell darzustellen.    
LOCATION:Forschungsgesellschaft Straße - Schiene - Verkehr, 3. Stock, Saal D, Karlsgasse 5, 1040 Wien
UID:4c1435cf-e610-4295-87e5-1870d774dddd
CLASS:PUBLIC
TRANSP:OPAQUE
END:VEVENT
END:VCALENDAR
