BEGIN:VCALENDAR
VERSION:2.0
METHOD:PUBLISH
BEGIN:VEVENT
DTSTART:20220622T064500Z
DTEND:20220622T160000Z
DTSTAMP:20260424T112249Z
SEQUENCE:0
STATUS:CONFIRMED
SUMMARY:FSV-Verkehrstag mit Fachausstellung 2022
LOCATION:Austria Trend Parkhotel Schönbrunn  , Hietzinger Hauptstraße 10-14, 1130 Wien 
UID:4dce70c7-6fa1-4ca4-a609-302d32cb4511
CLASS:PUBLIC
TRANSP:OPAQUE
END:VEVENT
END:VCALENDAR
