BEGIN:VCALENDAR
VERSION:2.0
METHOD:PUBLISH
BEGIN:VEVENT
DTSTART:20221011T070000Z
DTEND:20221011T150000Z
DTSTAMP:20260424T033226Z
SEQUENCE:0
STATUS:CONFIRMED
SUMMARY:FSV-Seminar: Kommunale Straßen - Projektierung kommunaler Straßen - Teil 1
DESCRIPTION:Bei Buchung von mind. 2 Seminartagen können Sie (bei Bekanntgabe) den 4. Seminartag „Rechtliche Grundlagen“ (16.10.2025) zusätzlich gratis besuchen.   Die Vortragenden behandeln ausführlich das Thema der Projektierung kommunaler Straßen.  Herr Schipany führt am Beginn des Vortragstages in die allgemeinen Grundlagen der Projektierung kommunaler Straßen ein. Im Anschluss daran wird speziell auf die Gestaltung des Schulumfeldes sowie best practice Beispiele aus Entwicklung und Umsetzung eingegangen.  Die Herren Merbaul und Thaller erläutern die Linienführung von Innerortsstraßen, Straßenraumgestaltung, die Planung von Knoten sowie Unfall- und Gefahrenstellen. Die Beschreibung der visuellen Informationsträger rundet schließlich den Tag ab.  
LOCATION:Forschungsgesellschaft Straße - Schiene - Verkehr, 4. Stock, Zimmer 402, Karlsgasse 5, 1040 Wien
UID:4e4a0a61-d655-4aa8-91a1-fbe536f36939
CLASS:PUBLIC
TRANSP:OPAQUE
END:VEVENT
END:VCALENDAR
