BEGIN:VCALENDAR
VERSION:2.0
METHOD:PUBLISH
BEGIN:VEVENT
DTSTART:20231106T080000Z
DTEND:20231109T160000Z
DTSTAMP:20260423T042022Z
SEQUENCE:0
STATUS:CONFIRMED
SUMMARY:FSV-Seminar: Kommunale Straßen - Block B
DESCRIPTION:Die Seminarreihe bietet Interessierten die einmalige Möglichkeit sich von der Planung über den Straßenbetrieb bis zur Erhaltung – speziell zugeschnitten auf den kommunalen und ländlichen Bereich – zeitsparend, kompetent und praxisorientiert zu informieren. Dabei können Sie tageweise jene Themen auswählen, die für Sie von besonderem Interesse sind oder Sie buchen das gesamte Seminar, um umfassend informiert zu werden.   
LOCATION:Forschungsgesellschaft Straße - Schiene - Verkehr, 4. Stock, Zimmer 402 ODER Webinar (MS-Teams), Karlsgasse 5, 1040 Wien
UID:50a5ccc5-4d2b-4235-a32c-bdf600091308
CLASS:PUBLIC
TRANSP:OPAQUE
END:VEVENT
END:VCALENDAR
