BEGIN:VCALENDAR
VERSION:2.0
METHOD:PUBLISH
BEGIN:VEVENT
DTSTART:20220328T103000Z
DTEND:20220328T150000Z
DTSTAMP:20260424T161342Z
SEQUENCE:0
STATUS:CONFIRMED
SUMMARY:FSV-Infonachmittag: Aktuelle VIF Forschungsergebnisse
DESCRIPTION:Die Österreichische Forschungsgesellschaft Straße – Schiene – Verkehr (FSV) sieht es als Ihre Aufgabe, aktuelle Forschungsergebnisse aus dem Verkehrsbereich Verkehrsfachleuten vorzustellen.  In unperiodischen Abständen werden an Infonachmittagen insbesondere aktuelle Forschungsergebnisse der Verkehrsinfrastrukturforschung (VIF) präsentiert.  Im Rahmen dieser Veranstaltung werden zwei Schwerpunkte „Tunnel“, sowie „Klima & Umwelt“ mit VIF Forschungsprojekten von den führenden Institutionen vorgestellt. Ziel ist es dabei, die wissenschaftlichen Arbeiten einerseits den Praktikern näher zu bringen, anderseits die Erhöhung des Bekanntheitsgrades von neuen Erkenntnissen zu fördern. 
LOCATION:Forschungsgesellschaft Straße - Schiene - Verkehr, 1. Stock, Saal A, Karlsgasse 5, 1040 Wien
UID:5cc5dcf3-5bf4-4972-97df-0c33d80999d5
CLASS:PUBLIC
TRANSP:OPAQUE
END:VEVENT
END:VCALENDAR
