BEGIN:VCALENDAR
VERSION:2.0
METHOD:PUBLISH
BEGIN:VEVENT
DTSTART:20241014T070000Z
DTEND:20241017T150000Z
DTSTAMP:20260422T084833Z
SEQUENCE:0
STATUS:CONFIRMED
SUMMARY:FSV-Seminar: Kommunale Straßen - Block A
DESCRIPTION:Die Seminarreihe bietet Interessierten die einmalige Möglichkeit sich von der Planung über den Straßenbetrieb bis zur Erhaltung – speziell zugeschnitten auf den kommunalen und ländlichen Bereich – zeitsparend, kompetent und praxisorientiert zu informieren. Dabei können Sie tageweise jene Themen auswählen, die für Sie von besonderem Interesse sind oder Sie buchen das gesamte Seminar, um umfassend informiert zu werden. 
LOCATION:Forschungsgesellschaft Straße - Schiene - Verkehr, 4. Stock, Zimmer 402 ODER Webinar (MS-Teams), Karlsgasse 5, 1040 Wien
UID:5e6bcc51-5acf-478e-909f-609158117286
CLASS:PUBLIC
TRANSP:OPAQUE
END:VEVENT
END:VCALENDAR
