BEGIN:VCALENDAR
VERSION:2.0
METHOD:PUBLISH
BEGIN:VEVENT
DTSTART:20231107T080000Z
DTEND:20231107T160000Z
DTSTAMP:20260423T043741Z
SEQUENCE:0
STATUS:CONFIRMED
SUMMARY:FSV-Seminar: Kommunale Straßen - Management der kommunalen Straßeninfrastruktur - Teil 2
DESCRIPTION:Bei Buchung von mind. 2 Seminartagen können Sie (bei Bekanntgabe) den 1. Seminartag „Rechtliche Grundlagen“ (25.09.2023) zusätzlich gratis besuchen.   Dieser Seminartag ist nur in Kombination mit „Management der kommunalen Straßeninfrastruktur - Teil 1“ (06.11.2023) buchbar.   Der Seminarteil „Management der kommunalen Strasseninfrastruktur“ befasst sich aufbauend auf den bautechnischen Grundlagen der unterschiedlichen Anlagen der Straßeninfrastruktur mit deren Zustandserfassung, Schadensanalyse und -bewertung sowie der damit zu verknüpfenden lebenszyklusorientierten Erhaltungsplanung. Ergänzt wird dieser Teil durch eine allgemeine Einführung in das Ehaltungsmanagement (Asset Management), gesetzliche Grundlagen und die Ermittlung der Vermögenswerte als Grundlage für die VRV. 
LOCATION:Forschungsgesellschaft Straße - Schiene - Verkehr, 4. Stock, Zimmer 402 ODER Webinar (MS-Teams), Karlsgasse 5, 1040 Wien
UID:60222fde-d917-474a-9f0f-72a73dfe9d13
CLASS:PUBLIC
TRANSP:OPAQUE
END:VEVENT
END:VCALENDAR
