BEGIN:VCALENDAR
VERSION:2.0
METHOD:PUBLISH
BEGIN:VEVENT
DTSTART:20251020T080000Z
DTEND:20251020T150000Z
DTSTAMP:20260421T113158Z
SEQUENCE:0
STATUS:CONFIRMED
SUMMARY:FSV-Kooperationsveranstaltung: Bundeskongress kommunale Verkehrssicherheit 2025
DESCRIPTION: Seit 2019 veranstaltet die Österreichische Forschungsgesellschaft Straße - Schiene - Verkehr (FSV) den Bundeskongress kommunale Verkehrssicherheit mit mehreren KooperationspartnerInnen.  Ziel des mittlerweile zu einem festen Bestandteil des FSV-Veranstaltungskalenders gewordenen Bundeskongress kommunale Verkehrssicherheit ist es, möglichst viele am Thema Verkehrssicherheit Interessierte über aktuelle Entwicklungen zu informieren. VertreterInnen von Gemeinden und Städten sollen ebenso angesprochen werden wie PlanerInnen und BehördenvertreterInnen.  Themen des Bundeskongresses 2025 sind "Gefahren erkennen, kritische Stellen sicher gestalten", "Verkehr im Gleichgewicht - sicher, ruhig, effektiv" und "Sicher zur Schule und über die Fahrbahn". 
LOCATION:Renaissance Wien Hotel , Linke Wienzeile/Ullmannstraße 71, 1150 Wien
UID:612228cc-5032-4a10-b26d-b7e34a35341d
CLASS:PUBLIC
TRANSP:OPAQUE
END:VEVENT
END:VCALENDAR
