BEGIN:VCALENDAR
VERSION:2.0
METHOD:PUBLISH
BEGIN:VEVENT
DTSTART:20211006T070000Z
DTEND:20211007T150000Z
DTSTAMP:20260425T001120Z
SEQUENCE:0
STATUS:CONFIRMED
SUMMARY:XV. Österr. Fachkonferenz für FußgängerInnen 2021
DESCRIPTION:"Gut zu Fuß - Strategien und Vorgangsweisen für Städte und Kommunen" Vorträge | Präsentationen | Workshops | Projektkurzvorstellung "Speed-Dating" | Good-Practice | Vernetzung | "Walk-Shops" (Rundgänge) und regionale Exkursionen   Weitere Informationen finden Sie hier!   
UID:64221b83-ee32-4293-9b53-4aa08341e07e
CLASS:PUBLIC
TRANSP:OPAQUE
END:VEVENT
END:VCALENDAR
