BEGIN:VCALENDAR
VERSION:2.0
METHOD:PUBLISH
BEGIN:VEVENT
DTSTART:20221115T080000Z
DTEND:20221115T141500Z
DTSTAMP:20260424T013750Z
SEQUENCE:0
STATUS:CONFIRMED
SUMMARY:Planung von Radverkehrsinfrastruktur nach der neuen RVS 03.02.13
DESCRIPTION:Die Kooperationsveranstaltung zwischen dem Bundesministerium für Klimaschutz, Umwelt, Energie, Mobilität, Innovation und Technologie (BMK) / klimaaktiv mobil, dem Kuratorium für Verkehrssicherheit (KFV), dem Land Vorarlberg und der Österreichischen Forschungsgesellschaft Straße - Schiene - Verkehr (FSV), als Herausgeberin der Richtlinien und Vorschriften für das Straßenwesen (RVS), tourt im Herbst 2022 durch alle Bundesländer Österreichs um die Planung von Radverkehrsinfrastruktur nach der neuen RVS 03.02.13 „Radverkehr“ (Juli 2022) vorzustellen.  Ziel des eintägigen Informations- und Planungsseminars ist, Gemeinde- und LändervertreterInnen die neue RVS 03.02.13, die vom FSV-Arbeitsausschuss „Radverkehr“ erstellt wurde und über klimaaktivmobil.fsv.at kostenlos heruntergeladen werden kann, vorzustellen.  Dabei wird gleich zu Beginn der Veranstaltung die RVS erläutert und im Anschluss daran werden Praxisbeispiele im jeweiligen Bundesland und in Österreich präsentiert. Im Anschluss daran wird der Seminartag mit der Vorstellung von Bundes- und Landesförderungen für den Radverkehr sowie einem Workshop, im Rahmen dessen Fragen zu den verschiedenen Themenbereichen besprochen werden können, abgerundet.  
LOCATION:Vereinshaus Lauterach , Hofsteigstraße 5, 6923 Lauterach
UID:69749721-79cf-41ea-8b70-216b7f3cd1c8
CLASS:PUBLIC
TRANSP:OPAQUE
END:VEVENT
END:VCALENDAR
