BEGIN:VCALENDAR
VERSION:2.0
METHOD:PUBLISH
BEGIN:VEVENT
DTSTART:20210411T130000Z
DTEND:20210413T140000Z
DTSTAMP:20260425T115006Z
SEQUENCE:0
STATUS:CONFIRMED
SUMMARY:13. Österreichischer Radgipfel
DESCRIPTION:Der 13. Österreichische Radgipfel findet von 11. bis 13. April 2021 in Wien statt.  Ein abwechslungsreiches Rahmenprogramm rund um die Konferenztage am Montag, 12. April, und Dienstag, 13. April, wird geboten: eine Konferenz-Party am Abend, spannende Exkursionen, eine Expo sowie die Teilnahme an der Radparade rund um die Wiener Ringstraße am Vortag des Radgipfels. Weitere Informationen finden Sie hier! 
UID:6a2014e0-7c23-4b51-9725-0fac89a076f2
CLASS:PUBLIC
TRANSP:OPAQUE
END:VEVENT
END:VCALENDAR
