BEGIN:VCALENDAR
VERSION:2.0
METHOD:PUBLISH
BEGIN:VEVENT
DTSTART:20241107T080000Z
DTEND:20241107T160000Z
DTSTAMP:20260422T063710Z
SEQUENCE:0
STATUS:CONFIRMED
SUMMARY:FSV-Seminar: Kommunale Straßen - Projektierung kommunaler Straßen - Teil 2
DESCRIPTION:Bei Buchung von mind. 2 Seminartagen können Sie (bei Bekanntgabe) den 4. Seminartag „Rechtliche Grundlagen“ (16.10.2025) zusätzlich gratis besuchen.   Herr Haslehner wird über sein Fachgebiet, die Projektierung ländlicher Straßen, mit den Schwerpunkten Trassierung, Entwurf, Spurwege und standardisierte Oberbauausführung referieren. 
LOCATION:Forschungsgesellschaft Straße - Schiene - Verkehr, 4. Stock, Zimmer 402 ODER Webinar (MS-Teams), Karlsgasse 5, 1040 Wien
UID:6f58392d-3ec0-497c-a9cd-e4056e27f0a2
CLASS:PUBLIC
TRANSP:OPAQUE
END:VEVENT
END:VCALENDAR
