BEGIN:VCALENDAR
VERSION:2.0
METHOD:PUBLISH
BEGIN:VEVENT
DTSTART:20220619T070000Z
DTEND:20220623T150000Z
DTSTAMP:20260424T110145Z
SEQUENCE:0
STATUS:CONFIRMED
SUMMARY:EUPAVE | 14th International Symposium on Concrete Roads
DESCRIPTION:Nähere Informationen finden Sie hier! 
UID:7310feb4-9b8f-460a-9db6-c74f4150cd18
CLASS:PUBLIC
TRANSP:OPAQUE
END:VEVENT
END:VCALENDAR
