BEGIN:VCALENDAR
VERSION:2.0
METHOD:PUBLISH
BEGIN:VEVENT
DTSTART:20220627T063000Z
DTEND:20220629T110000Z
DTSTAMP:20260424T105809Z
SEQUENCE:0
STATUS:CONFIRMED
SUMMARY:FSV-Schulung: Brückeninspektoren - Aufbaulehrgang
DESCRIPTION:Der erste große Schwerpunkt dieser Veranstaltung ist die Vertiefung der Inhalte der FSV-Schulung "Brückeninspektoren - Basislehrgang". Vertiefend behandelt werden beispielsweise die Themen rechtliche und technische Grundlagen, Bauwerksprüfung und Schadenserfassung.   Der zweite Schwerpunkt der Veranstaltung ist die Erweiterung der Kenntnisse bei Themen wie Korrosionsschutz, Schweißnahtbeurteilung, Seilprüfung, messtechnische Bauwerksüberwachung und andere mehr.    Mittels praktischer Übungen, im Prüflabor des Instituts für Tragkonstruktionen der TU Wien, werden verschiedene Versuche, wie Endoskopie oder Karbonatisierung, durchgeführt.   
LOCATION:Forschungsgesellschaft Straße - Schiene - Verkehr, 3. Stock, Saal D, Karlsgasse 5, 1040 Wien
UID:738a13c8-8732-4495-89d0-d696e87a0931
CLASS:PUBLIC
TRANSP:OPAQUE
END:VEVENT
END:VCALENDAR
