BEGIN:VCALENDAR
VERSION:2.0
METHOD:PUBLISH
BEGIN:VEVENT
DTSTART:20210302T090000Z
DTEND:20210302T150000Z
DTSTAMP:20260425T132759Z
SEQUENCE:0
STATUS:CONFIRMED
SUMMARY:Neues zum Asphalt-Recycling
DESCRIPTION:Am Sektor des Asphaltbaus wurden 2019 und 2020 neue Richtlinien ausgearbeitet und in Kraft gesetzt. Der BRV stellt in einem neuen Merkblatt „Verwertung von Ausbauasphalt“ eine übersichtliche Darstellung der Einsatzmöglichkeiten zusammen. Ziel des Seminars ist es die neuen RVS gemeinsam mit den Anforderungen aus der Recycling-Baustoff Verordnung und dem BAWP, zusammengefasst in der Richtlinie für Recycling-Baustoffe, vorzustellen und zu diskutieren. Anmeldung und weitere Informationen finden Sie hier! 
UID:747c1f42-7d3e-4855-8775-148b536a4797
CLASS:PUBLIC
TRANSP:OPAQUE
END:VEVENT
END:VCALENDAR
