BEGIN:VCALENDAR
VERSION:2.0
METHOD:PUBLISH
BEGIN:VEVENT
DTSTART:20211011T070000Z
DTEND:20211015T103000Z
DTSTAMP:20260425T000711Z
SEQUENCE:0
STATUS:CONFIRMED
SUMMARY:ITS World Congress
DESCRIPTION:weitere Informationen: https://itsworldcongress.com Veranstaltungsort: Hamburg, Deutschland 
UID:7916da8b-5e21-4d26-b835-d3a76da16ea7
CLASS:PUBLIC
TRANSP:OPAQUE
END:VEVENT
END:VCALENDAR
